BEGIN:VCALENDAR
VERSION:2.0
PRODID:-//Germanschool Adelaide - ECPv6.15.20//NONSGML v1.0//EN
CALSCALE:GREGORIAN
METHOD:PUBLISH
X-ORIGINAL-URL:https://germanschool.org.au
X-WR-CALDESC:Events for Germanschool Adelaide
REFRESH-INTERVAL;VALUE=DURATION:PT1H
X-Robots-Tag:noindex
X-PUBLISHED-TTL:PT1H
BEGIN:VTIMEZONE
TZID:Australia/Adelaide
BEGIN:STANDARD
TZOFFSETFROM:+1030
TZOFFSETTO:+0930
TZNAME:ACST
DTSTART:20250405T163000
END:STANDARD
BEGIN:DAYLIGHT
TZOFFSETFROM:+0930
TZOFFSETTO:+1030
TZNAME:ACDT
DTSTART:20251004T163000
END:DAYLIGHT
BEGIN:STANDARD
TZOFFSETFROM:+1030
TZOFFSETTO:+0930
TZNAME:ACST
DTSTART:20260404T163000
END:STANDARD
BEGIN:DAYLIGHT
TZOFFSETFROM:+0930
TZOFFSETTO:+1030
TZNAME:ACDT
DTSTART:20261003T163000
END:DAYLIGHT
BEGIN:STANDARD
TZOFFSETFROM:+1030
TZOFFSETTO:+0930
TZNAME:ACST
DTSTART:20270403T163000
END:STANDARD
BEGIN:DAYLIGHT
TZOFFSETFROM:+0930
TZOFFSETTO:+1030
TZNAME:ACDT
DTSTART:20271002T163000
END:DAYLIGHT
END:VTIMEZONE
BEGIN:VEVENT
DTSTART;TZID=Australia/Adelaide:20260203T160000
DTEND;TZID=Australia/Adelaide:20260203T181500
DTSTAMP:20260423T173408
CREATED:20260127T073453Z
LAST-MODIFIED:20260127T073453Z
UID:3140-1770134400-1770142500@germanschool.org.au
SUMMARY:Term 1 Start - Trinity Garden - 2026
DESCRIPTION:
URL:https://germanschool.org.au/event/term-1-start-trinity-garden-2026/
LOCATION:SA
ORGANIZER;CN="German School":MAILTO:enquiries@germanschool.org.au
END:VEVENT
END:VCALENDAR