BEGIN:VCALENDAR
VERSION:2.0
PRODID:-//Germanschool Adelaide - ECPv6.15.18//NONSGML v1.0//EN
CALSCALE:GREGORIAN
METHOD:PUBLISH
X-WR-CALNAME:Germanschool Adelaide
X-ORIGINAL-URL:https://germanschool.org.au
X-WR-CALDESC:Events for Germanschool Adelaide
REFRESH-INTERVAL;VALUE=DURATION:PT1H
X-Robots-Tag:noindex
X-PUBLISHED-TTL:PT1H
BEGIN:VTIMEZONE
TZID:Australia/Adelaide
BEGIN:STANDARD
TZOFFSETFROM:+1030
TZOFFSETTO:+0930
TZNAME:ACST
DTSTART:20240406T163000
END:STANDARD
BEGIN:DAYLIGHT
TZOFFSETFROM:+0930
TZOFFSETTO:+1030
TZNAME:ACDT
DTSTART:20241005T163000
END:DAYLIGHT
BEGIN:STANDARD
TZOFFSETFROM:+1030
TZOFFSETTO:+0930
TZNAME:ACST
DTSTART:20250405T163000
END:STANDARD
BEGIN:DAYLIGHT
TZOFFSETFROM:+0930
TZOFFSETTO:+1030
TZNAME:ACDT
DTSTART:20251004T163000
END:DAYLIGHT
BEGIN:STANDARD
TZOFFSETFROM:+1030
TZOFFSETTO:+0930
TZNAME:ACST
DTSTART:20260404T163000
END:STANDARD
BEGIN:DAYLIGHT
TZOFFSETFROM:+0930
TZOFFSETTO:+1030
TZNAME:ACDT
DTSTART:20261003T163000
END:DAYLIGHT
END:VTIMEZONE
BEGIN:VEVENT
DTSTART;TZID=Australia/Adelaide:20250927T103000
DTEND;TZID=Australia/Adelaide:20250927T123000
DTSTAMP:20260420T080415
CREATED:20250910T230223Z
LAST-MODIFIED:20250910T230328Z
UID:2936-1758969000-1758976200@germanschool.org.au
SUMMARY:Family Fun Day 2025
DESCRIPTION:On the 27th of September will be Family Fun Day!\nThis year things will be different from the last years\, the day will begin as a normal school day meaning you will drop your child(ren) off in the morning and then at 10:30am in the school courtyard the event will run until 12:30pm!\nIf you are willing to volunteer with set up\, you may stay for the hour and a half between the event and the normal school morning.\n\nAs is tradition we will have a  cake stall and are asking for donations. This is your chance to show off your favourite family recipe! It doesn’t have to be cake\, cookies and cupcakes/muffins are also great!\nPlease let us know with a quick email via gspfcommittee@gmail.com if you would like to donate something. Please list the ingredients of your food and ensure they are nut-free.\n The classes have prepared a variety of fun activities like crafting and even a lemonade stand! You and your child will get a great opportunity to meet some of our other teachers and meet other parents in the community!\nAs parents or caretakers\, please be aware that you are responsible for your child(ren) during these events. \n\nWe are also going to run a  raffle  with some lovely fun prizes including some things like handmade soap\, custom ice block holders\, candles and some other cool things! Raffle tickets will be sold for $2. \nWe will also have books available for a gold coin donation!
URL:https://germanschool.org.au/event/family-fun-day-2025/
LOCATION:Adelaide High School\, West Terrace\, Adelaide\, SA\, 5000\, Australia
CATEGORIES:P&F Event
ORGANIZER;CN="P&F Committee":MAILTO:gspfcommittee@gmail.com
END:VEVENT
END:VCALENDAR