BEGIN:VCALENDAR
VERSION:2.0
PRODID:-//Germanschool Adelaide - ECPv6.15.18//NONSGML v1.0//EN
CALSCALE:GREGORIAN
METHOD:PUBLISH
X-WR-CALNAME:Germanschool Adelaide
X-ORIGINAL-URL:https://germanschool.org.au
X-WR-CALDESC:Events for Germanschool Adelaide
REFRESH-INTERVAL;VALUE=DURATION:PT1H
X-Robots-Tag:noindex
X-PUBLISHED-TTL:PT1H
BEGIN:VTIMEZONE
TZID:Australia/Adelaide
BEGIN:STANDARD
TZOFFSETFROM:+1030
TZOFFSETTO:+0930
TZNAME:ACST
DTSTART:20240406T163000
END:STANDARD
BEGIN:DAYLIGHT
TZOFFSETFROM:+0930
TZOFFSETTO:+1030
TZNAME:ACDT
DTSTART:20241005T163000
END:DAYLIGHT
BEGIN:STANDARD
TZOFFSETFROM:+1030
TZOFFSETTO:+0930
TZNAME:ACST
DTSTART:20250405T163000
END:STANDARD
BEGIN:DAYLIGHT
TZOFFSETFROM:+0930
TZOFFSETTO:+1030
TZNAME:ACDT
DTSTART:20251004T163000
END:DAYLIGHT
BEGIN:STANDARD
TZOFFSETFROM:+1030
TZOFFSETTO:+0930
TZNAME:ACST
DTSTART:20260404T163000
END:STANDARD
BEGIN:DAYLIGHT
TZOFFSETFROM:+0930
TZOFFSETTO:+1030
TZNAME:ACDT
DTSTART:20261003T163000
END:DAYLIGHT
BEGIN:STANDARD
TZOFFSETFROM:+1030
TZOFFSETTO:+0930
TZNAME:ACST
DTSTART:20270403T163000
END:STANDARD
BEGIN:DAYLIGHT
TZOFFSETFROM:+0930
TZOFFSETTO:+1030
TZNAME:ACDT
DTSTART:20271002T163000
END:DAYLIGHT
END:VTIMEZONE
BEGIN:VEVENT
DTSTART;TZID=Australia/Adelaide:20260321T090000
DTEND;TZID=Australia/Adelaide:20260321T120000
DTSTAMP:20260422T043218
CREATED:20260316T213652Z
LAST-MODIFIED:20260316T213652Z
UID:3226-1774083600-1774094400@germanschool.org.au
SUMMARY:School Closure - Saturday 21 March
DESCRIPTION:Dear Parents and Members of the School Community\, \nPlease note that the German School will be closed on Saturday\, 21 March\, as the Adelaide High School premises will be used as a polling station for the upcoming election. \nTo ensure that no teaching time is lost\, this lesson day will be made up on another Saturday in term two. The replacement date will be communicated to you as soon as it has been confirmed. \nThank you for your understanding and cooperation.
URL:https://germanschool.org.au/event/school-closure-saturday-21032026/
LOCATION:Adelaide High School\, West Terrace\, Adelaide\, SA\, 5000\, Australia
ORGANIZER;CN="German School":MAILTO:enquiries@germanschool.org.au
END:VEVENT
BEGIN:VEVENT
DTSTART;TZID=Australia/Adelaide:20260314T093000
DTEND;TZID=Australia/Adelaide:20260314T120000
DTSTAMP:20260422T043218
CREATED:20260219T101059Z
LAST-MODIFIED:20260225T043445Z
UID:3206-1773480600-1773489600@germanschool.org.au
SUMMARY:Ignite Your Child’s Love for German – Where Language Meets Community: Join Our Come & Try Day
DESCRIPTION:Come and try German for free! \nJoin our Come & Try Day on Saturday\, 14 March at Adelaide High School\, West Terrace. \nPerfect for kids of all ages – experience fun\, interactive classes with passionate teachers\, meet new friends\, and feel the warm community spirit that’s been thriving for over 60 years. \nNo commitment\, just a great introduction to learning German! \nSpaces are limited – secure your child’s spot today by completing and emailing the Trial Lesson Enrolment Form to admin@germanschool.org.au. \nWe’d love to welcome you on the 14th! 🇩🇪
URL:https://germanschool.org.au/event/where-language-meets-community-join-our-come-try-day/
LOCATION:Adelaide High School\, West Terrace\, Adelaide\, SA\, 5000\, Australia
ORGANIZER;CN="German School":MAILTO:enquiries@germanschool.org.au
END:VEVENT
BEGIN:VEVENT
DTSTART;TZID=Australia/Adelaide:20260221T093000
DTEND;TZID=Australia/Adelaide:20260221T114500
DTSTAMP:20260422T043218
CREATED:20260213T214704Z
LAST-MODIFIED:20260213T214704Z
UID:3148-1771666200-1771674300@germanschool.org.au
SUMMARY:Fasching
DESCRIPTION:It’s February again and that means it’s nearly time for:\nKARNEVAL / FASCHING / FASNACHT! \nEvery German knows that’s the time of year to get dressed up\, join the fun\, and eat\nlots of Berliner/Krapfen – or to quickly book a holiday and get out of the country! \nWe have decided to embrace Fasching at German School and will celebrate with\nyour children on Saturday 21 February. Children can come to school dressed up in\ntheir favourite costume (if they wish). We will have Berliner and Brezeln for sale\, too. \nLessons will finish at 11 am and the students are then invited to join the cultural\ncelebration. Parents are also welcome to join us from that time. The school day will\nend at 11:45 am for all students (including Communicators and Sentence Builders). \nWe’re looking forward to some amazing costumes! \nUntil then\, Alaaf and Helau!
URL:https://germanschool.org.au/event/karneval-fasching-fasnacht-2026/
LOCATION:Adelaide High School\, West Terrace\, Adelaide\, SA\, 5000\, Australia
ORGANIZER;CN="German School":MAILTO:enquiries@germanschool.org.au
END:VEVENT
BEGIN:VEVENT
DTSTART;TZID=Australia/Adelaide:20260203T160000
DTEND;TZID=Australia/Adelaide:20260203T181500
DTSTAMP:20260422T043218
CREATED:20260127T073453Z
LAST-MODIFIED:20260127T073453Z
UID:3140-1770134400-1770142500@germanschool.org.au
SUMMARY:Term 1 Start - Trinity Garden - 2026
DESCRIPTION:
URL:https://germanschool.org.au/event/term-1-start-trinity-garden-2026/
LOCATION:SA
ORGANIZER;CN="German School":MAILTO:enquiries@germanschool.org.au
END:VEVENT
BEGIN:VEVENT
DTSTART;TZID=Australia/Adelaide:20260131T093000
DTEND;TZID=Australia/Adelaide:20260131T120000
DTSTAMP:20260422T043218
CREATED:20260127T073352Z
LAST-MODIFIED:20260127T073352Z
UID:3136-1769851800-1769860800@germanschool.org.au
SUMMARY:Term 1 Start - Adelaide High School - 2026
DESCRIPTION:9.30-11.45 for classes 1-3 \n9.30-12.00 for A1 and A2
URL:https://germanschool.org.au/event/term-1-start-ahs-2026/
LOCATION:Adelaide High School\, West Terrace\, Adelaide\, SA\, 5000\, Australia
ORGANIZER;CN="German School":MAILTO:enquiries@germanschool.org.au
END:VEVENT
BEGIN:VEVENT
DTSTART;TZID=Australia/Adelaide:20251206T121500
DTEND;TZID=Australia/Adelaide:20251206T150000
DTSTAMP:20260422T043218
CREATED:20251111T062207Z
LAST-MODIFIED:20251203T124504Z
UID:3022-1765023300-1765033200@germanschool.org.au
SUMMARY:Annual Christmas Event 2025
DESCRIPTION:On Saturday the 6th of December is our annual Christmas event!\n\nThe event will begin at 12:15pm at West Croydon & Kilkenny RSL (19 Rosetta Street\, West Croydon) finishing at approximately 1:45pm.\n\nAs the school day ends at 11am\, during the break from 11am-12:15pm\, you are welcome to have lunch anywhere you wish or you can arrive at the venue early and have a delicious lunch and maybe even some cake or waffles!\n\nWe hope you are all as excited as we are!\n\nThe Parents and Friends
URL:https://germanschool.org.au/event/annual-christmas-event-2025/
LOCATION:West Croydon & Kilkenny RSL/Community Club\, 19 Rosetta St\, West Croydon\, SA\, 5008
ORGANIZER;CN="P&F Committee":MAILTO:gspfcommittee@gmail.com
END:VEVENT
BEGIN:VEVENT
DTSTART;TZID=Australia/Adelaide:20251206T090000
DTEND;TZID=Australia/Adelaide:20251206T110000
DTSTAMP:20260422T043218
CREATED:20251203T125313Z
LAST-MODIFIED:20251203T125347Z
UID:3117-1765011600-1765018800@germanschool.org.au
SUMMARY:Last day of School 2025
DESCRIPTION:Dear School Community\,\n\nThis Saturday\, 6 December\, will be the last day of school for this year.\n\nStudents need to return all course books to their class teachers – workbooks remain with the students.\n\nSchool will start as usual at 9.00am but will finish at 11.00am.\nOur Christmas event will commence at 12.15pm at West Croydon & Kilkenny RSL 19 Rosetta Street\, West Croydon and will finish at approximately 1:45pm. You are welcome to arrive earlier if you wish.\n\nKind regards
URL:https://germanschool.org.au/event/last-day-of-school-6-december-2025/
LOCATION:Adelaide High School\, West Terrace\, Adelaide\, SA\, 5000\, Australia
ORGANIZER;CN="German School":MAILTO:enquiries@germanschool.org.au
END:VEVENT
BEGIN:VEVENT
DTSTART;TZID=Australia/Adelaide:20251122T110000
DTEND;TZID=Australia/Adelaide:20251122T120000
DTSTAMP:20260422T043218
CREATED:20251111T061901Z
LAST-MODIFIED:20251111T061901Z
UID:3020-1763809200-1763812800@germanschool.org.au
SUMMARY:Parent & Teacher Event 2025
DESCRIPTION:
URL:https://germanschool.org.au/event/parent-teacher-event-2025/
LOCATION:Adelaide High School\, West Terrace\, Adelaide\, SA\, 5000\, Australia
ORGANIZER;CN="German School":MAILTO:enquiries@germanschool.org.au
END:VEVENT
BEGIN:VEVENT
DTSTART;TZID=Australia/Adelaide:20251108T090000
DTEND;TZID=Australia/Adelaide:20251108T160000
DTSTAMP:20260422T043218
CREATED:20250924T060917Z
LAST-MODIFIED:20250924T060956Z
UID:2983-1762592400-1762617600@germanschool.org.au
SUMMARY:Goethe Fit in Deutsch A1 Exam 2025
DESCRIPTION:We are delighted that the German School is offering the internationally recognised Goethe Fit in Deutsch A1 exam for the very first time. \nTo ensure your child is well-prepared\, we have scheduled a series of preparation activities both in and outside the classroom. We strongly encourage all students to attend classes regularly in the lead-up to the exam. \nThe exam will be facilitated by Goethe examiners. While the exam itself takes about 60 minutes\, the oral component is conducted in groups of 3–4 students\, which may involve some waiting time. All students will be supervised by staff of the German school. \nThe exam fee is $199.00\, payable directly to the Goethe-Institut via the registration link below. As the exam is scheduled on a Saturday\, there are no additional costs for supervision\, which will be provided by the German School \nRegister for the SAGTA Workshop 01.11.25: Please\, choose the complementary option. The link momentarily only mentions Pembroke School as an exam school but SAGTA is rectifying this issue. The workshop is for all students sitting this exam either on the 7.11 at Pembroke or 8.11 at the GS. \nhttps://www.trybooking.com/DFUVH \nRegister for the Goethe Exam 08.11.25: \nGoethe-Zertifikat A1: Fit in Deutsch 1 – Goethe Institut Australia \n 
URL:https://germanschool.org.au/event/goethe-fit-in-deutsch-a1-exam-2025/
LOCATION:Adelaide High School\, West Terrace\, Adelaide\, SA\, 5000\, Australia
ORGANIZER;CN="German School":MAILTO:enquiries@germanschool.org.au
END:VEVENT
BEGIN:VEVENT
DTSTART;TZID=Australia/Adelaide:20250927T103000
DTEND;TZID=Australia/Adelaide:20250927T123000
DTSTAMP:20260422T043218
CREATED:20250910T230223Z
LAST-MODIFIED:20250910T230328Z
UID:2936-1758969000-1758976200@germanschool.org.au
SUMMARY:Family Fun Day 2025
DESCRIPTION:On the 27th of September will be Family Fun Day!\nThis year things will be different from the last years\, the day will begin as a normal school day meaning you will drop your child(ren) off in the morning and then at 10:30am in the school courtyard the event will run until 12:30pm!\nIf you are willing to volunteer with set up\, you may stay for the hour and a half between the event and the normal school morning.\n\nAs is tradition we will have a  cake stall and are asking for donations. This is your chance to show off your favourite family recipe! It doesn’t have to be cake\, cookies and cupcakes/muffins are also great!\nPlease let us know with a quick email via gspfcommittee@gmail.com if you would like to donate something. Please list the ingredients of your food and ensure they are nut-free.\n The classes have prepared a variety of fun activities like crafting and even a lemonade stand! You and your child will get a great opportunity to meet some of our other teachers and meet other parents in the community!\nAs parents or caretakers\, please be aware that you are responsible for your child(ren) during these events. \n\nWe are also going to run a  raffle  with some lovely fun prizes including some things like handmade soap\, custom ice block holders\, candles and some other cool things! Raffle tickets will be sold for $2. \nWe will also have books available for a gold coin donation!
URL:https://germanschool.org.au/event/family-fun-day-2025/
LOCATION:Adelaide High School\, West Terrace\, Adelaide\, SA\, 5000\, Australia
CATEGORIES:P&F Event
ORGANIZER;CN="P&F Committee":MAILTO:gspfcommittee@gmail.com
END:VEVENT
BEGIN:VEVENT
DTSTART;VALUE=DATE:20250921
DTEND;VALUE=DATE:20250929
DTSTAMP:20260422T043218
CREATED:20250912T110125Z
LAST-MODIFIED:20250912T110125Z
UID:2950-1758412800-1759103999@germanschool.org.au
SUMMARY:Adelaide German Week 2025
DESCRIPTION:Adelaide’s annual German Week is returning once again! \nIn its fourth year\, the annual Adelaide German week is hosting eight magnificent events to get a taste of German culture. To find out more and to register please head to their website.
URL:https://germanschool.org.au/event/adelaide-german-week-2025/
LOCATION:SA
END:VEVENT
BEGIN:VEVENT
DTSTART;TZID=Australia/Adelaide:20250906T173000
DTEND;TZID=Australia/Adelaide:20250906T210000
DTSTAMP:20260422T043218
CREATED:20250822T045535Z
LAST-MODIFIED:20250822T060140Z
UID:2805-1757179800-1757192400@germanschool.org.au
SUMMARY:Quiz night at the German Club 2025
DESCRIPTION:Dear School Community\, \nHave you booked your tables yet? \nQuiz Night is selling out fast\, so if you have thought about booking\, now is the time! \nAll proceeds will go to the School for the German Language and this year we have something specific in mind. We have also decided that the school needs their own microphones and portable speakers\, so this will be our fundraising goal.Through lots of fundraising\, we have some great prizes in store. The winning table will take home a prize basket worth $400+ \nThe Parents and Friends have also worked hard to source some exciting big ticket raffle items as well – Tickets for these can be purchased on the night. \nWe will also bring back the ‘in between rounds’ that you can join with a gold coin donation to win smaller prizes. \nSaturday 6 September 2025 \nDoors open 5.30pm.\nJoin us from 6.00pm for food\, Quiz starts at 7.00pm. \nFood pre-orders by 30 August are essential for planning purposes\, payments will be due on the night.  \nSo come for dinner\, have some beers and lots of fun\, all while raising funds for the children attending the School for the German Language. \nFollow the booking link to book a half or full table – for 4/5 or 8-10 people respectively – https://www.trybooking.com/DCWWG
URL:https://germanschool.org.au/event/quiz-night-at-the-german-club-2025/
LOCATION:The German Club\, 41 Airport Rd\, Brooklyn Park\, SA\, 5032\, Australia
ORGANIZER;CN="P&F Committee":MAILTO:gspfcommittee@gmail.com
END:VEVENT
BEGIN:VEVENT
DTSTART;TZID=Australia/Adelaide:20250823T091500
DTEND;TZID=Australia/Adelaide:20250823T113000
DTSTAMP:20260422T043218
CREATED:20250822T052510Z
LAST-MODIFIED:20250822T052510Z
UID:2810-1755940500-1755948600@germanschool.org.au
SUMMARY:Parent Brunch 2025
DESCRIPTION:Hello Parents and Caregivers \nAs already announced in the Newsletter\, we would like to give our new and not so new parents an opportunity to meet each other and members of the Parents and Friends during our Parent Brunch. \nThis is your chance to get involved and have a delicious brunch on 23 August 2025.
URL:https://germanschool.org.au/event/parent-brunch-2025/
LOCATION:Adelaide High School\, West Terrace\, Adelaide\, SA\, 5000\, Australia
ORGANIZER;CN="P&F Committee":MAILTO:gspfcommittee@gmail.com
END:VEVENT
END:VCALENDAR