BEGIN:VCALENDAR
VERSION:2.0
PRODID:-//Germanschool Adelaide - ECPv6.15.18//NONSGML v1.0//EN
CALSCALE:GREGORIAN
METHOD:PUBLISH
X-ORIGINAL-URL:https://germanschool.org.au
X-WR-CALDESC:Events for Germanschool Adelaide
REFRESH-INTERVAL;VALUE=DURATION:PT1H
X-Robots-Tag:noindex
X-PUBLISHED-TTL:PT1H
BEGIN:VTIMEZONE
TZID:Australia/Adelaide
BEGIN:STANDARD
TZOFFSETFROM:+1030
TZOFFSETTO:+0930
TZNAME:ACST
DTSTART:20250405T163000
END:STANDARD
BEGIN:DAYLIGHT
TZOFFSETFROM:+0930
TZOFFSETTO:+1030
TZNAME:ACDT
DTSTART:20251004T163000
END:DAYLIGHT
BEGIN:STANDARD
TZOFFSETFROM:+1030
TZOFFSETTO:+0930
TZNAME:ACST
DTSTART:20260404T163000
END:STANDARD
BEGIN:DAYLIGHT
TZOFFSETFROM:+0930
TZOFFSETTO:+1030
TZNAME:ACDT
DTSTART:20261003T163000
END:DAYLIGHT
BEGIN:STANDARD
TZOFFSETFROM:+1030
TZOFFSETTO:+0930
TZNAME:ACST
DTSTART:20270403T163000
END:STANDARD
BEGIN:DAYLIGHT
TZOFFSETFROM:+0930
TZOFFSETTO:+1030
TZNAME:ACDT
DTSTART:20271002T163000
END:DAYLIGHT
END:VTIMEZONE
BEGIN:VEVENT
DTSTART;TZID=Australia/Adelaide:20260314T093000
DTEND;TZID=Australia/Adelaide:20260314T120000
DTSTAMP:20260422T095137
CREATED:20260219T101059Z
LAST-MODIFIED:20260225T043445Z
UID:3206-1773480600-1773489600@germanschool.org.au
SUMMARY:Ignite Your Child’s Love for German – Where Language Meets Community: Join Our Come & Try Day
DESCRIPTION:Come and try German for free! \nJoin our Come & Try Day on Saturday\, 14 March at Adelaide High School\, West Terrace. \nPerfect for kids of all ages – experience fun\, interactive classes with passionate teachers\, meet new friends\, and feel the warm community spirit that’s been thriving for over 60 years. \nNo commitment\, just a great introduction to learning German! \nSpaces are limited – secure your child’s spot today by completing and emailing the Trial Lesson Enrolment Form to admin@germanschool.org.au. \nWe’d love to welcome you on the 14th! 🇩🇪
URL:https://germanschool.org.au/event/where-language-meets-community-join-our-come-try-day/
LOCATION:Adelaide High School\, West Terrace\, Adelaide\, SA\, 5000\, Australia
ORGANIZER;CN="German School":MAILTO:enquiries@germanschool.org.au
END:VEVENT
BEGIN:VEVENT
DTSTART;TZID=Australia/Adelaide:20260321T090000
DTEND;TZID=Australia/Adelaide:20260321T120000
DTSTAMP:20260422T095137
CREATED:20260316T213652Z
LAST-MODIFIED:20260316T213652Z
UID:3226-1774083600-1774094400@germanschool.org.au
SUMMARY:School Closure - Saturday 21 March
DESCRIPTION:Dear Parents and Members of the School Community\, \nPlease note that the German School will be closed on Saturday\, 21 March\, as the Adelaide High School premises will be used as a polling station for the upcoming election. \nTo ensure that no teaching time is lost\, this lesson day will be made up on another Saturday in term two. The replacement date will be communicated to you as soon as it has been confirmed. \nThank you for your understanding and cooperation.
URL:https://germanschool.org.au/event/school-closure-saturday-21032026/
LOCATION:Adelaide High School\, West Terrace\, Adelaide\, SA\, 5000\, Australia
ORGANIZER;CN="German School":MAILTO:enquiries@germanschool.org.au
END:VEVENT
BEGIN:VEVENT
DTSTART;TZID=Australia/Adelaide:20260328T103000
DTEND;TZID=Australia/Adelaide:20260328T120000
DTSTAMP:20260422T095137
CREATED:20260316T214508Z
LAST-MODIFIED:20260316T214508Z
UID:3228-1774693800-1774699200@germanschool.org.au
SUMMARY:Exclusive Celebration for DSD & Goethe-Zertifikat A1 Graduates and Their Families
DESCRIPTION:We are delighted to celebrate the graduating students who have successfully completed either the Deutsches Sprachdiplom (DSD) or the Goethe-Zertifikat A1\, together with their immediate families. \nThis private event is dedicated exclusively to recognising the outstanding dedication\, effort\, and remarkable achievement of our certificate graduates in their German language journey. It is a proud moment to celebrate this important milestone with those who have supported them every step of the way. \nPlease note: \n\nAttendance is reserved only for the certificate recipients and their immediate families.\nSaturday school will operate as usual for all other classes.
URL:https://germanschool.org.au/event/graduates-celebrations-2026/
LOCATION:Adelaide High School\, West Terrace\, Adelaide\, SA\, 5000\, Australia
ORGANIZER;CN="German School":MAILTO:enquiries@germanschool.org.au
END:VEVENT
END:VCALENDAR